Package: frmaTools Version: 1.62.0 Command: /home/biocbuild/bbs-3.22-bioc/R/bin/R CMD build --keep-empty-dirs --no-resave-data --md5 frmaTools StartedAt: 2025-11-11 17:46:27 -0500 (Tue, 11 Nov 2025) EndedAt: 2025-11-11 17:46:41 -0500 (Tue, 11 Nov 2025) EllapsedTime: 14.0 seconds RetCode: 0 Status: OK PackageFile: frmaTools_1.62.0.tar.gz PackageFileSize: 158.4 KiB