Package: frmaTools Version: 1.62.0 Command: /Library/Frameworks/R.framework/Resources/bin/R CMD INSTALL frmaTools StartedAt: 2025-11-10 15:07:02 -0500 (Mon, 10 Nov 2025) EndedAt: 2025-11-10 15:07:04 -0500 (Mon, 10 Nov 2025) EllapsedTime: 2.7 seconds RetCode: 0 Status: OK