Package: frmaTools Version: 1.62.0 Command: /Library/Frameworks/R.framework/Resources/bin/R CMD build --keep-empty-dirs --no-resave-data frmaTools StartedAt: 2025-11-10 16:26:25 -0500 (Mon, 10 Nov 2025) EndedAt: 2025-11-10 16:26:33 -0500 (Mon, 10 Nov 2025) EllapsedTime: 8.1 seconds RetCode: 0 Status: OK PackageFile: frmaTools_1.62.0.tar.gz PackageFileSize: 157.8 KiB