Package: frenchFISH Version: 1.22.0 Command: /home/biocbuild/bbs-3.22-bioc/R/bin/R CMD INSTALL frenchFISH StartedAt: 2025-11-25 15:35:35 -0500 (Tue, 25 Nov 2025) EndedAt: 2025-11-25 15:35:46 -0500 (Tue, 25 Nov 2025) EllapsedTime: 10.6 seconds RetCode: 0 Status: OK