Package: frenchFISH Version: 1.22.0 Command: /home/biocbuild/bbs-3.22-bioc/R/bin/R CMD build --keep-empty-dirs --no-resave-data --md5 frenchFISH StartedAt: 2025-11-25 18:09:32 -0500 (Tue, 25 Nov 2025) EndedAt: 2025-11-25 18:09:37 -0500 (Tue, 25 Nov 2025) EllapsedTime: 5.0 seconds RetCode: 0 Status: OK PackageFile: frenchFISH_1.22.0.tar.gz PackageFileSize: 21.77 KiB