Package: fobitools Version: 1.18.0 Command: /home/biocbuild/R/R/bin/R CMD INSTALL fobitools StartedAt: 2025-11-13 21:14:59 -0000 (Thu, 13 Nov 2025) EndedAt: 2025-11-13 21:15:40 -0000 (Thu, 13 Nov 2025) EllapsedTime: 40.8 seconds RetCode: 0 Status: OK