Package: fobitools Version: 1.18.0 Command: /home/biocbuild/R/R/bin/R CMD build --keep-empty-dirs --no-resave-data fobitools StartedAt: 2025-11-14 01:54:36 -0000 (Fri, 14 Nov 2025) EndedAt: 2025-11-14 01:56:17 -0000 (Fri, 14 Nov 2025) EllapsedTime: 101.0 seconds RetCode: 0 Status: OK PackageFile: fobitools_1.18.0.tar.gz PackageFileSize: 3.787 MiB