Package: fobitools Version: 1.18.0 Command: /home/biocbuild/bbs-3.22-bioc/R/bin/R CMD build --keep-empty-dirs --no-resave-data --md5 fobitools StartedAt: 2025-11-11 17:46:02 -0500 (Tue, 11 Nov 2025) EndedAt: 2025-11-11 17:47:15 -0500 (Tue, 11 Nov 2025) EllapsedTime: 72.1 seconds RetCode: 0 Status: OK PackageFile: fobitools_1.18.0.tar.gz PackageFileSize: 6.149 MiB