Package: fobitools Version: 1.16.0 Command: /home/biocbuild/bbs-3.21-bioc/R/bin/R CMD build --keep-empty-dirs --no-resave-data fobitools StartedAt: 2025-10-12 17:33:57 -0400 (Sun, 12 Oct 2025) EndedAt: 2025-10-12 17:35:09 -0400 (Sun, 12 Oct 2025) EllapsedTime: 72.1 seconds RetCode: 0 Status: OK PackageFile: fobitools_1.16.0.tar.gz PackageFileSize: 6.141 MiB