Package: fobitools Version: 1.16.0 Command: /Library/Frameworks/R.framework/Resources/bin/R CMD INSTALL fobitools StartedAt: 2025-10-13 15:28:58 -0400 (Mon, 13 Oct 2025) EndedAt: 2025-10-13 15:29:14 -0400 (Mon, 13 Oct 2025) EllapsedTime: 15.5 seconds RetCode: 0 Status: OK