Package: fobitools Version: 1.16.0 Command: /Library/Frameworks/R.framework/Resources/bin/R CMD build --keep-empty-dirs --no-resave-data fobitools StartedAt: 2025-10-14 00:35:18 -0400 (Tue, 14 Oct 2025) EndedAt: 2025-10-14 00:36:49 -0400 (Tue, 14 Oct 2025) EllapsedTime: 91.5 seconds RetCode: 0 Status: OK PackageFile: fobitools_1.16.0.tar.gz PackageFileSize: 6.188 MiB