Package: fobitools Version: 1.16.0 Command: rm -rf fobitools.buildbin-libdir && mkdir fobitools.buildbin-libdir && /Users/biocbuild/BBS/utils/build-universal.sh fobitools_1.16.0.tar.gz /Library/Frameworks/R.framework/Resources/bin/R fobitools.buildbin-libdir StartedAt: 2025-10-15 18:32:51 -0400 (Wed, 15 Oct 2025) EndedAt: 2025-10-15 18:33:10 -0400 (Wed, 15 Oct 2025) EllapsedTime: 19.0 seconds RetCode: 0 Status: OK PackageFile: fobitools_1.16.0.tgz PackageFileSize: 5.481 MiB