Package: fmrs Version: 1.20.0 Command: /home/biocbuild/bbs-3.22-bioc/R/bin/R CMD INSTALL fmrs StartedAt: 2025-11-11 15:09:23 -0500 (Tue, 11 Nov 2025) EndedAt: 2025-11-11 15:09:38 -0500 (Tue, 11 Nov 2025) EllapsedTime: 15.4 seconds RetCode: 0 Status: OK