Package: fmrs Version: 1.20.0 Command: /home/biocbuild/bbs-3.22-bioc/R/bin/R CMD build --keep-empty-dirs --no-resave-data --md5 fmrs StartedAt: 2025-11-11 17:45:59 -0500 (Tue, 11 Nov 2025) EndedAt: 2025-11-11 17:46:15 -0500 (Tue, 11 Nov 2025) EllapsedTime: 16.0 seconds RetCode: 0 Status: OK PackageFile: fmrs_1.20.0.tar.gz PackageFileSize: 48.33 KiB