Package: fmcsR Version: 1.52.0 Command: /home/biocbuild/bbs-3.22-bioc/R/bin/R CMD INSTALL fmcsR StartedAt: 2025-11-11 15:17:06 -0500 (Tue, 11 Nov 2025) EndedAt: 2025-11-11 15:17:26 -0500 (Tue, 11 Nov 2025) EllapsedTime: 19.3 seconds RetCode: 0 Status: OK