Package: fmcsR Version: 1.50.0 Command: /home/biocbuild/R/R/bin/R CMD INSTALL fmcsR StartedAt: 2025-10-13 20:24:32 -0000 (Mon, 13 Oct 2025) EndedAt: 2025-10-13 20:25:04 -0000 (Mon, 13 Oct 2025) EllapsedTime: 31.5 seconds RetCode: 0 Status: OK