Package: fmcsR Version: 1.50.0 Command: /home/biocbuild/R/R/bin/R CMD build --keep-empty-dirs --no-resave-data fmcsR StartedAt: 2025-10-14 00:57:14 -0000 (Tue, 14 Oct 2025) EndedAt: 2025-10-14 00:58:19 -0000 (Tue, 14 Oct 2025) EllapsedTime: 64.0 seconds RetCode: 0 Status: OK PackageFile: fmcsR_1.50.0.tar.gz PackageFileSize: 845.5 KiB