Package: fmcsR Version: 1.52.0 Command: /Library/Frameworks/R.framework/Resources/bin/R CMD INSTALL fmcsR StartedAt: 2025-10-30 15:06:54 -0400 (Thu, 30 Oct 2025) EndedAt: 2025-10-30 15:07:04 -0400 (Thu, 30 Oct 2025) EllapsedTime: 9.7 seconds RetCode: 0 Status: OK