Package: fmcsR Version: 1.52.0 Command: /Library/Frameworks/R.framework/Resources/bin/R CMD build --keep-empty-dirs --no-resave-data fmcsR StartedAt: 2025-10-29 22:47:51 -0400 (Wed, 29 Oct 2025) EndedAt: 2025-10-29 22:48:11 -0400 (Wed, 29 Oct 2025) EllapsedTime: 20.2 seconds RetCode: 0 Status: OK PackageFile: fmcsR_1.52.0.tar.gz PackageFileSize: 871.3 KiB