Package: fmcsR Version: 1.52.0 Command: rm -rf fmcsR.buildbin-libdir && mkdir fmcsR.buildbin-libdir && /Users/biocbuild/BBS/utils/build-universal.sh fmcsR_1.52.0.tar.gz /Library/Frameworks/R.framework/Resources/bin/R fmcsR.buildbin-libdir StartedAt: 2025-10-30 05:24:59 -0400 (Thu, 30 Oct 2025) EndedAt: 2025-10-30 05:25:10 -0400 (Thu, 30 Oct 2025) EllapsedTime: 11.2 seconds RetCode: 0 Status: OK PackageFile: fmcsR_1.52.0.tgz PackageFileSize: 1016 KiB