Package: flowcatchR Version: 1.42.0 Command: /home/biocbuild/R/R/bin/R CMD build --keep-empty-dirs --no-resave-data flowcatchR StartedAt: 2025-10-14 00:53:24 -0000 (Tue, 14 Oct 2025) EndedAt: 2025-10-14 00:54:17 -0000 (Tue, 14 Oct 2025) EllapsedTime: 53.0 seconds RetCode: 0 Status: OK PackageFile: flowcatchR_1.42.0.tar.gz PackageFileSize: 7.307 MiB