Package: flowcatchR Version: 1.42.0 Command: /Library/Frameworks/R.framework/Resources/bin/R CMD INSTALL flowcatchR StartedAt: 2025-04-21 15:10:19 -0400 (Mon, 21 Apr 2025) EndedAt: 2025-04-21 15:10:22 -0400 (Mon, 21 Apr 2025) EllapsedTime: 3.7 seconds RetCode: 0 Status: OK