Package: flowWorkspace Version: 4.22.0 Command: /home/biocbuild/R/R/bin/R CMD build --keep-empty-dirs --no-resave-data flowWorkspace StartedAt: 2025-11-11 01:46:38 -0000 (Tue, 11 Nov 2025) EndedAt: 2025-11-11 01:50:57 -0000 (Tue, 11 Nov 2025) EllapsedTime: 258.1 seconds RetCode: 0 Status: OK PackageFile: flowWorkspace_4.22.0.tar.gz PackageFileSize: 4.132 MiB