Package: flowWorkspace Version: 4.20.0 Command: rm -rf flowWorkspace.buildbin-libdir && mkdir flowWorkspace.buildbin-libdir && E:\biocbuild\bbs-3.21-bioc\R\bin\R.exe CMD INSTALL --build --library=flowWorkspace.buildbin-libdir flowWorkspace_4.20.0.tar.gz StartedAt: 2025-08-15 09:18:46 -0400 (Fri, 15 Aug 2025) EndedAt: 2025-08-15 09:23:26 -0400 (Fri, 15 Aug 2025) EllapsedTime: 279.8 seconds RetCode: 0 Status: OK PackageFile: flowWorkspace_4.20.0.zip PackageFileSize: 5.268 MiB