Package: flowWorkspace Version: 4.22.0 Command: /home/biocbuild/bbs-3.22-bioc/R/bin/R CMD check --install=check:flowWorkspace.install-out.txt --library=/home/biocbuild/bbs-3.22-bioc/R/site-library --timings flowWorkspace_4.22.0.tar.gz StartedAt: 2025-11-11 23:48:44 -0500 (Tue, 11 Nov 2025) EndedAt: 2025-11-11 23:52:09 -0500 (Tue, 11 Nov 2025) EllapsedTime: 205.3 seconds RetCode: 0 Status: WARNINGS CheckDir: flowWorkspace.Rcheck Warnings: 5