Package: flowWorkspace Version: 4.22.0 Command: /home/biocbuild/bbs-3.22-bioc/R/bin/R CMD build --keep-empty-dirs --no-resave-data --md5 flowWorkspace StartedAt: 2025-11-11 17:45:47 -0500 (Tue, 11 Nov 2025) EndedAt: 2025-11-11 17:48:34 -0500 (Tue, 11 Nov 2025) EllapsedTime: 166.1 seconds RetCode: 0 Status: OK PackageFile: flowWorkspace_4.22.0.tar.gz PackageFileSize: 5.088 MiB