Package: flowWorkspace Version: 4.20.0 Command: /home/biocbuild/bbs-3.21-bioc/R/bin/R CMD INSTALL flowWorkspace StartedAt: 2025-09-28 15:30:53 -0400 (Sun, 28 Sep 2025) EndedAt: 2025-09-28 15:33:06 -0400 (Sun, 28 Sep 2025) EllapsedTime: 132.4 seconds RetCode: 0 Status: OK