Package: flowViz Version: 1.74.0 Command: /home/biocbuild/bbs-3.22-bioc/R/bin/R CMD check --install=check:flowViz.install-out.txt --library=/home/biocbuild/bbs-3.22-bioc/R/site-library --timings flowViz_1.74.0.tar.gz StartedAt: 2025-11-14 23:51:32 -0500 (Fri, 14 Nov 2025) EndedAt: 2025-11-14 23:54:26 -0500 (Fri, 14 Nov 2025) EllapsedTime: 174.2 seconds RetCode: 0 Status: OK CheckDir: flowViz.Rcheck Warnings: 0