Package: flowViz Version: 1.74.0 Command: /Library/Frameworks/R.framework/Resources/bin/R CMD INSTALL flowViz StartedAt: 2025-11-03 15:20:20 -0500 (Mon, 03 Nov 2025) EndedAt: 2025-11-03 15:20:39 -0500 (Mon, 03 Nov 2025) EllapsedTime: 19.4 seconds RetCode: 0 Status: OK