Package: flowViz Version: 1.74.0 Command: rm -rf flowViz.buildbin-libdir && mkdir flowViz.buildbin-libdir && /Users/biocbuild/BBS/utils/build-universal.sh flowViz_1.74.0.tar.gz /Library/Frameworks/R.framework/Resources/bin/R flowViz.buildbin-libdir StartedAt: 2025-11-04 01:40:43 -0500 (Tue, 04 Nov 2025) EndedAt: 2025-11-04 01:41:02 -0500 (Tue, 04 Nov 2025) EllapsedTime: 18.5 seconds RetCode: 0 Status: OK PackageFile: flowViz_1.74.0.tgz PackageFileSize: 1.469 MiB