Package: flowViz Version: 1.72.0 Command: /home/biocbuild/R/R/bin/R CMD INSTALL flowViz StartedAt: 2025-10-13 20:25:51 -0000 (Mon, 13 Oct 2025) EndedAt: 2025-10-13 20:26:07 -0000 (Mon, 13 Oct 2025) EllapsedTime: 15.8 seconds RetCode: 0 Status: OK