Package: flowViz Version: 1.72.0 Command: /home/biocbuild/R/R/bin/R CMD build --keep-empty-dirs --no-resave-data flowViz StartedAt: 2025-10-14 00:56:47 -0000 (Tue, 14 Oct 2025) EndedAt: 2025-10-14 00:58:25 -0000 (Tue, 14 Oct 2025) EllapsedTime: 97.0 seconds RetCode: 0 Status: OK PackageFile: flowViz_1.72.0.tar.gz PackageFileSize: 969.3 KiB