Back to Build/check report for BioC 3.22:   simplified   long
ABCDE[F]GHIJKLMNOPQRSTUVWXYZ

This page was generated on 2025-11-13 11:55 -0500 (Thu, 13 Nov 2025).

HostnameOSArch (*)R versionInstalled pkgs
taishanLinux (openEuler 24.03 LTS)aarch644.5.0 (2025-04-11) -- "How About a Twenty-Six" 4668
Click on any hostname to see more info about the system (e.g. compilers)      (*) as reported by 'uname -p', except on Windows and Mac OS X

All results for package flowViz


To the developers/maintainers of the flowViz package:
- Allow up to 24 hours (and sometimes 48 hours) for your latest push to git@git.bioconductor.org:packages/flowViz.git to reflect on this report. See Troubleshooting Build Report for more information.
- Use the following Renviron settings to reproduce errors and warnings.
- If 'R CMD check' started to fail recently on the Linux builder(s) over a missing dependency, add the missing dependency to 'Suggests:' in your DESCRIPTION file. See Renviron.bioc for more information.

raw results

Package 770/2361HostnameOS / ArchINSTALLBUILDCHECKBUILD BIN
flowViz 1.74.0  (landing page)
Mike Jiang
Snapshot Date: 2025-11-12 13:45 -0500 (Wed, 12 Nov 2025)
git_url: https://git.bioconductor.org/packages/flowViz
git_branch: RELEASE_3_22
git_last_commit: e737e04
git_last_commit_date: 2025-10-29 09:58:41 -0500 (Wed, 29 Oct 2025)
taishanLinux (openEuler 24.03 LTS) / aarch64  OK    OK    OK  



Results for Bioconductor software packages that depend directly on package flowViz

QUICK STATSOS / ArchINSTALLBUILDCHECKBUILD BIN
taishanLinux (openEuler 24.03 LTS) / aarch64
006
006
0033
Package 1/6HostnameOS / ArchINSTALLBUILDCHECKBUILD BIN
flowDensity 1.44.0  (landing page)
Mehrnoush Malek
git_last_commit: 4e0f8ef
git_last_commit_date: 2025-10-29 10:20:08 -0500
taishanLinux (openEuler 24.03 LTS) / aarch64  OK    OK    WARNINGS  
Package 2/6HostnameOS / ArchINSTALLBUILDCHECKBUILD BIN
flowFP 1.68.0  (landing page)
Herb Holyst , Wade Rogers
git_last_commit: d48aa8b
git_last_commit_date: 2025-10-29 10:03:05 -0500
taishanLinux (openEuler 24.03 LTS) / aarch64  OK    OK    OK  
Package 3/6HostnameOS / ArchINSTALLBUILDCHECKBUILD BIN
flowStats 4.22.0  (landing page)
Greg Finak , Mike Jiang
git_last_commit: 3f49777
git_last_commit_date: 2025-10-29 10:02:44 -0500
taishanLinux (openEuler 24.03 LTS) / aarch64  OK    OK    WARNINGS  
Package 4/6HostnameOS / ArchINSTALLBUILDCHECKBUILD BIN
flowTrans 1.62.0  (landing page)
Greg Finak
git_last_commit: 0a2fdd0
git_last_commit_date: 2025-10-29 10:05:05 -0500
taishanLinux (openEuler 24.03 LTS) / aarch64  OK    OK    OK  
Package 5/6HostnameOS / ArchINSTALLBUILDCHECKBUILD BIN
flowVS 1.42.0  (landing page)
Ariful Azad
git_last_commit: 9e2d194
git_last_commit_date: 2025-10-29 11:08:30 -0500
taishanLinux (openEuler 24.03 LTS) / aarch64  OK    OK    OK  
Package 6/6HostnameOS / ArchINSTALLBUILDCHECKBUILD BIN
openCyto 2.22.0  (landing page)
Mike Jiang
git_last_commit: bbeacaf
git_last_commit_date: 2025-10-29 10:16:53 -0500
taishanLinux (openEuler 24.03 LTS) / aarch64  OK    OK    WARNINGS