Package: flowVS Version: 1.42.0 Command: /home/biocbuild/bbs-3.22-bioc/R/bin/R CMD INSTALL flowVS StartedAt: 2025-11-11 15:39:25 -0500 (Tue, 11 Nov 2025) EndedAt: 2025-11-11 15:39:42 -0500 (Tue, 11 Nov 2025) EllapsedTime: 16.0 seconds RetCode: 0 Status: OK