Package: flowVS Version: 1.42.0 Command: /home/biocbuild/bbs-3.22-bioc/R/bin/R CMD build --keep-empty-dirs --no-resave-data --md5 flowVS StartedAt: 2025-11-11 17:45:46 -0500 (Tue, 11 Nov 2025) EndedAt: 2025-11-11 17:47:47 -0500 (Tue, 11 Nov 2025) EllapsedTime: 120.1 seconds RetCode: 0 Status: OK PackageFile: flowVS_1.42.0.tar.gz PackageFileSize: 3.701 MiB