Package: flowVS Version: 1.42.0 Command: /Library/Frameworks/R.framework/Resources/bin/R CMD INSTALL flowVS StartedAt: 2025-11-10 15:10:17 -0500 (Mon, 10 Nov 2025) EndedAt: 2025-11-10 15:10:25 -0500 (Mon, 10 Nov 2025) EllapsedTime: 7.5 seconds RetCode: 0 Status: OK