Package: flowVS Version: 1.42.0 Command: rm -rf flowVS.buildbin-libdir && mkdir flowVS.buildbin-libdir && /Users/biocbuild/BBS/utils/build-universal.sh flowVS_1.42.0.tar.gz /Library/Frameworks/R.framework/Resources/bin/R flowVS.buildbin-libdir StartedAt: 2025-11-10 23:20:27 -0500 (Mon, 10 Nov 2025) EndedAt: 2025-11-10 23:20:34 -0500 (Mon, 10 Nov 2025) EllapsedTime: 7.2 seconds RetCode: 0 Status: OK PackageFile: flowVS_1.42.0.tgz PackageFileSize: 3.587 MiB