Package: flowTrans Version: 1.62.0 Command: /home/biocbuild/bbs-3.22-bioc/R/bin/R CMD check --install=check:flowTrans.install-out.txt --library=/home/biocbuild/bbs-3.22-bioc/R/site-library --timings flowTrans_1.62.0.tar.gz StartedAt: 2025-11-11 23:48:04 -0500 (Tue, 11 Nov 2025) EndedAt: 2025-11-11 23:49:13 -0500 (Tue, 11 Nov 2025) EllapsedTime: 69.1 seconds RetCode: 0 Status: OK CheckDir: flowTrans.Rcheck Warnings: 0