Package: flowTrans Version: 1.60.0 Command: rm -rf flowTrans.buildbin-libdir && mkdir flowTrans.buildbin-libdir && /Users/biocbuild/BBS/utils/build-universal.sh flowTrans_1.60.0.tar.gz /Library/Frameworks/R.framework/Resources/bin/R flowTrans.buildbin-libdir StartedAt: 2025-04-22 00:45:56 -0400 (Tue, 22 Apr 2025) EndedAt: 2025-04-22 00:46:10 -0400 (Tue, 22 Apr 2025) EllapsedTime: 13.9 seconds RetCode: 0 Status: OK PackageFile: flowTrans_1.60.0.tgz PackageFileSize: 522.8 KiB