Package: flowTrans Version: 1.60.0 Command: /home/biocbuild/R/R/bin/R CMD INSTALL flowTrans StartedAt: 2025-09-25 20:29:11 -0000 (Thu, 25 Sep 2025) EndedAt: 2025-09-25 20:29:22 -0000 (Thu, 25 Sep 2025) EllapsedTime: 11.2 seconds RetCode: 0 Status: OK