Package: flowTrans Version: 1.60.0 Command: rm -rf flowTrans.buildbin-libdir && mkdir flowTrans.buildbin-libdir && /Users/biocbuild/BBS/utils/build-universal.sh flowTrans_1.60.0.tar.gz /Library/Frameworks/R.framework/Resources/bin/R flowTrans.buildbin-libdir StartedAt: 2025-04-21 22:35:31 -0400 (Mon, 21 Apr 2025) EndedAt: 2025-04-21 22:35:35 -0400 (Mon, 21 Apr 2025) EllapsedTime: 4.1 seconds RetCode: 0 Status: OK PackageFile: flowTrans_1.60.0.tgz PackageFileSize: 523.5 KiB