Package: flowTrans Version: 1.60.0 Command: /Library/Frameworks/R.framework/Resources/bin/R CMD INSTALL flowTrans StartedAt: 2025-10-13 17:14:17 -0400 (Mon, 13 Oct 2025) EndedAt: 2025-10-13 17:14:27 -0400 (Mon, 13 Oct 2025) EllapsedTime: 10.4 seconds RetCode: 0 Status: OK