Package: flowTrans Version: 1.60.0 Command: /Library/Frameworks/R.framework/Resources/bin/R CMD build --keep-empty-dirs --no-resave-data flowTrans StartedAt: 2025-10-14 00:33:20 -0400 (Tue, 14 Oct 2025) EndedAt: 2025-10-14 00:33:48 -0400 (Tue, 14 Oct 2025) EllapsedTime: 27.4 seconds RetCode: 0 Status: OK PackageFile: flowTrans_1.60.0.tar.gz PackageFileSize: 480.5 KiB