Package: flowTrans Version: 1.60.0 Command: rm -rf flowTrans.buildbin-libdir && mkdir flowTrans.buildbin-libdir && /Users/biocbuild/BBS/utils/build-universal.sh flowTrans_1.60.0.tar.gz /Library/Frameworks/R.framework/Resources/bin/R flowTrans.buildbin-libdir StartedAt: 2025-10-15 18:32:32 -0400 (Wed, 15 Oct 2025) EndedAt: 2025-10-15 18:32:43 -0400 (Wed, 15 Oct 2025) EllapsedTime: 11.2 seconds RetCode: 0 Status: OK PackageFile: flowTrans_1.60.0.tgz PackageFileSize: 523.6 KiB