Package: flowTime Version: 1.34.0 Command: /home/biocbuild/bbs-3.22-bioc/R/bin/R CMD check --install=check:flowTime.install-out.txt --library=/home/biocbuild/bbs-3.22-bioc/R/site-library --timings flowTime_1.34.0.tar.gz StartedAt: 2025-11-13 23:49:55 -0500 (Thu, 13 Nov 2025) EndedAt: 2025-11-13 23:51:27 -0500 (Thu, 13 Nov 2025) EllapsedTime: 92.1 seconds RetCode: 0 Status: OK CheckDir: flowTime.Rcheck Warnings: 0