Package: flowTime Version: 1.32.0 Command: /home/biocbuild/bbs-3.21-bioc/R/bin/R CMD build --keep-empty-dirs --no-resave-data flowTime StartedAt: 2025-10-15 17:33:22 -0400 (Wed, 15 Oct 2025) EndedAt: 2025-10-15 17:33:54 -0400 (Wed, 15 Oct 2025) EllapsedTime: 32.0 seconds RetCode: 0 Status: OK PackageFile: flowTime_1.32.0.tar.gz PackageFileSize: 2.438 MiB