Package: flowTime Version: 1.32.0 Command: /home/biocbuild/R/R/bin/R CMD INSTALL flowTime StartedAt: 2025-09-29 20:26:26 -0000 (Mon, 29 Sep 2025) EndedAt: 2025-09-29 20:26:36 -0000 (Mon, 29 Sep 2025) EllapsedTime: 10.0 seconds RetCode: 0 Status: OK