Package: flowTime Version: 1.32.0 Command: /home/biocbuild/R/R/bin/R CMD build --keep-empty-dirs --no-resave-data flowTime StartedAt: 2025-09-30 01:31:17 -0000 (Tue, 30 Sep 2025) EndedAt: 2025-09-30 01:31:42 -0000 (Tue, 30 Sep 2025) EllapsedTime: 25.0 seconds RetCode: 1 Status: ERROR PackageFile: None PackageFileSize: NA