Package: flowTime Version: 1.34.0 Maintainer: R. Clay Wright MaintainerEmail: wright.clay at gmail.com git_url: https://git.bioconductor.org/packages/flowTime git_branch: RELEASE_3_22 git_last_commit: c91aa9b git_last_commit_date: 2025-10-29 10:37:40 -0400 (Wed, 29 Oct 2025)