Package: flowStats Version: 4.22.0 Command: /home/biocbuild/bbs-3.22-bioc/R/bin/R CMD INSTALL flowStats StartedAt: 2025-11-11 15:39:01 -0500 (Tue, 11 Nov 2025) EndedAt: 2025-11-11 15:39:25 -0500 (Tue, 11 Nov 2025) EllapsedTime: 24.4 seconds RetCode: 0 Status: OK